Package: Wrench Version: 1.24.0 Command: /home/biocbuild/bbs-3.20-bioc/R/bin/R CMD check --install=check:Wrench.install-out.txt --library=/home/biocbuild/bbs-3.20-bioc/R/site-library --timings Wrench_1.24.0.tar.gz StartedAt: 2025-02-04 03:36:25 -0500 (Tue, 04 Feb 2025) EndedAt: 2025-02-04 03:37:50 -0500 (Tue, 04 Feb 2025) EllapsedTime: 85.1 seconds RetCode: 0 Status: OK CheckDir: Wrench.Rcheck Warnings: 0