Package: Wrench Version: 1.24.0 Command: chmod a+r Wrench -R && F:\biocbuild\bbs-3.20-bioc\R\bin\R.exe CMD build --keep-empty-dirs --no-resave-data Wrench StartedAt: 2025-02-03 22:50:13 -0500 (Mon, 03 Feb 2025) EndedAt: 2025-02-03 22:51:09 -0500 (Mon, 03 Feb 2025) EllapsedTime: 55.7 seconds RetCode: 0 Status: OK PackageFile: Wrench_1.24.0.tar.gz PackageFileSize: 224.9 KiB