Package: Wrench Version: 1.24.0 Command: /home/biocbuild/R/R/bin/R CMD check --install=check:Wrench.install-out.txt --library=/home/biocbuild/R/R/site-library --no-vignettes --timings Wrench_1.24.0.tar.gz StartedAt: 2025-02-04 12:09:45 -0000 (Tue, 04 Feb 2025) EndedAt: 2025-02-04 12:10:39 -0000 (Tue, 04 Feb 2025) EllapsedTime: 54.1 seconds RetCode: 0 Status: OK CheckDir: Wrench.Rcheck Warnings: 0