Package: XDE Version: 2.52.0 Command: rm -rf XDE.buildbin-libdir && mkdir XDE.buildbin-libdir && /Users/biocbuild/BBS/utils/build-universal.sh XDE_2.52.0.tar.gz /Library/Frameworks/R.framework/Resources/bin/R XDE.buildbin-libdir StartedAt: 2025-02-05 18:17:35 -0500 (Wed, 05 Feb 2025) EndedAt: 2025-02-05 18:18:40 -0500 (Wed, 05 Feb 2025) EllapsedTime: 64.7 seconds RetCode: 0 Status: OK PackageFile: XDE_2.52.0.tgz PackageFileSize: 2.183 MiB