Package: XDE Version: 2.52.0 Command: /home/biocbuild/bbs-3.20-bioc/R/bin/R CMD check --install=check:XDE.install-out.txt --library=/home/biocbuild/bbs-3.20-bioc/R/site-library --timings XDE_2.52.0.tar.gz StartedAt: 2025-02-04 03:37:14 -0500 (Tue, 04 Feb 2025) EndedAt: 2025-02-04 03:40:12 -0500 (Tue, 04 Feb 2025) EllapsedTime: 178.2 seconds RetCode: 0 Status: WARNINGS CheckDir: XDE.Rcheck Warnings: 1