Package: XNAString Version: 1.14.0 Command: rm -rf XNAString.buildbin-libdir && mkdir XNAString.buildbin-libdir && /Users/biocbuild/BBS/utils/build-universal.sh XNAString_1.14.0.tar.gz /Library/Frameworks/R.framework/Resources/bin/R XNAString.buildbin-libdir StartedAt: 2025-02-05 18:18:02 -0500 (Wed, 05 Feb 2025) EndedAt: 2025-02-05 18:21:24 -0500 (Wed, 05 Feb 2025) EllapsedTime: 201.4 seconds RetCode: 0 Status: OK PackageFile: XNAString_1.14.0.tgz PackageFileSize: 1.648 MiB