Package: XNAString Version: 1.14.0 Command: /Library/Frameworks/R.framework/Resources/bin/R CMD build --keep-empty-dirs --no-resave-data XNAString StartedAt: 2025-02-04 10:38:04 -0500 (Tue, 04 Feb 2025) EndedAt: 2025-02-04 10:41:53 -0500 (Tue, 04 Feb 2025) EllapsedTime: 228.9 seconds RetCode: 0 Status: OK PackageFile: XNAString_1.14.0.tar.gz PackageFileSize: 1.631 MiB