Package: XNAString Version: 1.14.0 Command: /Library/Frameworks/R.framework/Resources/bin/R CMD build --keep-empty-dirs --no-resave-data XNAString StartedAt: 2025-02-03 23:15:04 -0500 (Mon, 03 Feb 2025) EndedAt: 2025-02-03 23:19:55 -0500 (Mon, 03 Feb 2025) EllapsedTime: 290.4 seconds RetCode: 0 Status: OK PackageFile: XNAString_1.14.0.tar.gz PackageFileSize: 1.63 MiB