Package: XNAString Version: 1.14.0 Command: /home/biocbuild/bbs-3.20-bioc/R/bin/R CMD build --keep-empty-dirs --no-resave-data --md5 XNAString StartedAt: 2025-02-03 19:49:16 -0500 (Mon, 03 Feb 2025) EndedAt: 2025-02-03 19:51:17 -0500 (Mon, 03 Feb 2025) EllapsedTime: 120.9 seconds RetCode: 0 Status: OK PackageFile: XNAString_1.14.0.tar.gz PackageFileSize: 1.64 MiB