Package: XNAString Version: 1.14.0 Command: rm -rf XNAString.buildbin-libdir && mkdir XNAString.buildbin-libdir && F:\biocbuild\bbs-3.20-bioc\R\bin\R.exe CMD INSTALL --build --library=XNAString.buildbin-libdir XNAString_1.14.0.tar.gz StartedAt: 2025-02-04 09:46:21 -0500 (Tue, 04 Feb 2025) EndedAt: 2025-02-04 09:48:30 -0500 (Tue, 04 Feb 2025) EllapsedTime: 128.8 seconds RetCode: 0 Status: OK PackageFile: XNAString_1.14.0.zip PackageFileSize: 1.944 MiB