Package: XNAString Version: 1.14.0 Command: F:\biocbuild\bbs-3.20-bioc\R\bin\R.exe CMD check --no-multiarch --install=check:XNAString.install-out.txt --library=F:\biocbuild\bbs-3.20-bioc\R\library --no-vignettes --timings XNAString_1.14.0.tar.gz StartedAt: 2025-02-04 07:33:10 -0500 (Tue, 04 Feb 2025) EndedAt: 2025-02-04 07:41:47 -0500 (Tue, 04 Feb 2025) EllapsedTime: 517.5 seconds RetCode: 0 Status: OK CheckDir: XNAString.Rcheck Warnings: 0