##############################################################################
##############################################################################
###
### Running command:
###
###   /Library/Frameworks/R.framework/Resources/bin/R CMD build --keep-empty-dirs --no-resave-data XVector
###
##############################################################################
##############################################################################


* checking for file ‘XVector/DESCRIPTION’ ... OK
* preparing ‘XVector’:
* checking DESCRIPTION meta-information ... OK
* cleaning src
* checking for LF line-endings in source and make files and shell scripts
* checking for empty or unneeded directories
* building ‘XVector_0.46.0.tar.gz’