Package: XVector
Version: 0.45.0
Command: C:\Users\biocbuild\bbs-3.20-bioc\R\bin\R.exe CMD INSTALL XVector
StartedAt: 2024-07-15 15:21:00 -0400 (Mon, 15 Jul 2024)
EndedAt: 2024-07-15 15:21:41 -0400 (Mon, 15 Jul 2024)
EllapsedTime: 40.6 seconds
RetCode: 0
Status: OK