Package: YAPSA Version: 1.32.0 Command: /Library/Frameworks/R.framework/Resources/bin/R CMD INSTALL YAPSA StartedAt: 2025-01-30 16:56:06 -0500 (Thu, 30 Jan 2025) EndedAt: 2025-01-30 16:57:21 -0500 (Thu, 30 Jan 2025) EllapsedTime: 74.5 seconds RetCode: 0 Status: OK