Package: YAPSA Version: 1.32.0 Command: /home/biocbuild/R/R/bin/R CMD INSTALL YAPSA StartedAt: 2024-11-19 21:07:12 -0000 (Tue, 19 Nov 2024) EndedAt: 2024-11-19 21:08:43 -0000 (Tue, 19 Nov 2024) EllapsedTime: 91.2 seconds RetCode: 0 Status: OK