Package: YAPSA Version: 1.32.0 Command: /Library/Frameworks/R.framework/Resources/bin/R CMD check --install=check:YAPSA.install-out.txt --library=/Library/Frameworks/R.framework/Resources/library --no-vignettes --timings YAPSA_1.32.0.tar.gz StartedAt: 2025-01-31 11:51:42 -0500 (Fri, 31 Jan 2025) EndedAt: 2025-01-31 12:04:00 -0500 (Fri, 31 Jan 2025) EllapsedTime: 738.6 seconds RetCode: 0 Status: OK CheckDir: YAPSA.Rcheck Warnings: 0