Package: YAPSA Version: 1.32.0 Command: /Library/Frameworks/R.framework/Resources/bin/R CMD INSTALL YAPSA StartedAt: 2025-01-30 16:06:50 -0500 (Thu, 30 Jan 2025) EndedAt: 2025-01-30 16:09:04 -0500 (Thu, 30 Jan 2025) EllapsedTime: 134.4 seconds RetCode: 0 Status: OK