Package: YAPSA Version: 1.32.0 Command: /home/biocbuild/bbs-3.20-bioc/R/bin/R CMD build --keep-empty-dirs --no-resave-data --md5 YAPSA StartedAt: 2025-01-30 19:39:44 -0500 (Thu, 30 Jan 2025) EndedAt: 2025-01-30 19:43:04 -0500 (Thu, 30 Jan 2025) EllapsedTime: 200.2 seconds RetCode: 0 Status: OK PackageFile: YAPSA_1.32.0.tar.gz PackageFileSize: 4.181 MiB