Package: YAPSA Version: 1.32.0 Command: /home/biocbuild/bbs-3.20-bioc/R/bin/R CMD INSTALL YAPSA StartedAt: 2025-01-30 15:37:45 -0500 (Thu, 30 Jan 2025) EndedAt: 2025-01-30 15:39:12 -0500 (Thu, 30 Jan 2025) EllapsedTime: 86.9 seconds RetCode: 0 Status: OK