Package: YAPSA Version: 1.32.0 Command: chmod a+r YAPSA -R && F:\biocbuild\bbs-3.20-bioc\R\bin\R.exe CMD build --keep-empty-dirs --no-resave-data YAPSA StartedAt: 2025-01-30 22:34:06 -0500 (Thu, 30 Jan 2025) EndedAt: 2025-01-30 22:38:37 -0500 (Thu, 30 Jan 2025) EllapsedTime: 271.5 seconds RetCode: 0 Status: OK PackageFile: YAPSA_1.32.0.tar.gz PackageFileSize: 2.77 MiB