Package: a4Base Version: 1.54.0 Command: /Library/Frameworks/R.framework/Resources/bin/R CMD check --install=check:a4Base.install-out.txt --library=/Library/Frameworks/R.framework/Resources/library --no-vignettes --timings a4Base_1.54.0.tar.gz StartedAt: 2025-02-04 10:45:09 -0500 (Tue, 04 Feb 2025) EndedAt: 2025-02-04 10:48:49 -0500 (Tue, 04 Feb 2025) EllapsedTime: 220.4 seconds RetCode: 0 Status: OK CheckDir: a4Base.Rcheck Warnings: 0