Package: a4Base Version: 1.54.0 Command: chmod a+r a4Base -R && F:\biocbuild\bbs-3.20-bioc\R\bin\R.exe CMD build --keep-empty-dirs --no-resave-data a4Base StartedAt: 2025-02-17 17:11:12 -0500 (Mon, 17 Feb 2025) EndedAt: 2025-02-17 17:11:20 -0500 (Mon, 17 Feb 2025) EllapsedTime: 8.2 seconds RetCode: 0 Status: OK PackageFile: a4Base_1.54.0.tar.gz PackageFileSize: 366.5 <A href="http://en.wikipedia.org/wiki/KiB" target="_blank">KiB</A>