Package: a4Classif Version: 1.54.0 Command: /Library/Frameworks/R.framework/Resources/bin/R CMD build --keep-empty-dirs --no-resave-data a4Classif StartedAt: 2025-02-03 18:23:41 -0500 (Mon, 03 Feb 2025) EndedAt: 2025-02-03 18:24:18 -0500 (Mon, 03 Feb 2025) EllapsedTime: 36.5 seconds RetCode: 0 Status: OK PackageFile: a4Classif_1.54.0.tar.gz PackageFileSize: 650.1 KiB