Package: a4Classif
Version: 1.53.0
Command: C:\Users\biocbuild\bbs-3.20-bioc\R\bin\R.exe CMD check --no-multiarch --install=check:a4Classif.install-out.txt --library=C:\Users\biocbuild\bbs-3.20-bioc\R\library --no-vignettes --timings a4Classif_1.53.0.tar.gz
StartedAt: 2024-07-15 21:36:52 -0400 (Mon, 15 Jul 2024)
EndedAt: 2024-07-15 21:38:17 -0400 (Mon, 15 Jul 2024)
EllapsedTime: 84.8 seconds
RetCode: 0
Status: OK
CheckDir: a4Classif.Rcheck
Warnings: 0