Package: a4Classif Version: 1.54.0 Command: /home/biocbuild/R/R/bin/R CMD build --keep-empty-dirs --no-resave-data a4Classif StartedAt: 2025-02-03 21:31:54 -0000 (Mon, 03 Feb 2025) EndedAt: 2025-02-03 21:32:28 -0000 (Mon, 03 Feb 2025) EllapsedTime: 34.0 seconds RetCode: 0 Status: OK PackageFile: a4Classif_1.54.0.tar.gz PackageFileSize: 463.3 KiB