Package: a4Core Version: 1.54.0 Command: /Library/Frameworks/R.framework/Resources/bin/R CMD build --keep-empty-dirs --no-resave-data a4Core StartedAt: 2025-02-03 18:23:41 -0500 (Mon, 03 Feb 2025) EndedAt: 2025-02-03 18:23:54 -0500 (Mon, 03 Feb 2025) EllapsedTime: 12.5 seconds RetCode: 0 Status: OK PackageFile: a4Core_1.54.0.tar.gz PackageFileSize: 290.5 KiB