Package: a4Core Version: 1.54.0 Command: /Library/Frameworks/R.framework/Resources/bin/R CMD build --keep-empty-dirs --no-resave-data a4Core StartedAt: 2025-02-03 16:58:09 -0500 (Mon, 03 Feb 2025) EndedAt: 2025-02-03 16:58:31 -0500 (Mon, 03 Feb 2025) EllapsedTime: 21.7 seconds RetCode: 0 Status: OK PackageFile: a4Core_1.54.0.tar.gz PackageFileSize: 290.3 KiB