Package: a4Core Version: 1.54.0 Command: /Library/Frameworks/R.framework/Resources/bin/R CMD check --install=check:a4Core.install-out.txt --library=/Library/Frameworks/R.framework/Resources/library --no-vignettes --timings a4Core_1.54.0.tar.gz StartedAt: 2025-02-03 23:28:42 -0500 (Mon, 03 Feb 2025) EndedAt: 2025-02-03 23:30:34 -0500 (Mon, 03 Feb 2025) EllapsedTime: 112.2 seconds RetCode: 0 Status: OK CheckDir: a4Core.Rcheck Warnings: 0