Package: a4Core Version: 1.54.0 Command: /home/biocbuild/bbs-3.20-bioc/R/bin/R CMD check --install=check:a4Core.install-out.txt --library=/home/biocbuild/bbs-3.20-bioc/R/site-library --timings a4Core_1.54.0.tar.gz StartedAt: 2025-02-03 19:56:30 -0500 (Mon, 03 Feb 2025) EndedAt: 2025-02-03 19:57:14 -0500 (Mon, 03 Feb 2025) EllapsedTime: 44.1 seconds RetCode: 0 Status: OK CheckDir: a4Core.Rcheck Warnings: 0