Package: a4Core Version: 1.54.0 Command: /home/biocbuild/bbs-3.20-bioc/R/bin/R CMD INSTALL a4Core StartedAt: 2025-02-03 15:52:37 -0500 (Mon, 03 Feb 2025) EndedAt: 2025-02-03 15:52:43 -0500 (Mon, 03 Feb 2025) EllapsedTime: 6.9 seconds RetCode: 0 Status: OK