Package: a4Core Version: 1.54.0 Command: chmod a+r a4Core -R && F:\biocbuild\bbs-3.20-bioc\R\bin\R.exe CMD build --keep-empty-dirs --no-resave-data a4Core StartedAt: 2025-02-03 17:24:34 -0500 (Mon, 03 Feb 2025) EndedAt: 2025-02-03 17:24:54 -0500 (Mon, 03 Feb 2025) EllapsedTime: 19.9 seconds RetCode: 0 Status: OK PackageFile: a4Core_1.54.0.tar.gz PackageFileSize: 290.4 KiB