Package: a4Core Version: 1.54.0 Command: F:\biocbuild\bbs-3.20-bioc\R\bin\R.exe CMD check --no-multiarch --install=check:a4Core.install-out.txt --library=F:\biocbuild\bbs-3.20-bioc\R\library --no-vignettes --timings a4Core_1.54.0.tar.gz StartedAt: 2025-02-03 23:00:18 -0500 (Mon, 03 Feb 2025) EndedAt: 2025-02-03 23:01:22 -0500 (Mon, 03 Feb 2025) EllapsedTime: 63.9 seconds RetCode: 0 Status: OK CheckDir: a4Core.Rcheck Warnings: 0