Package: a4Core Version: 1.54.0 Command: /home/biocbuild/R/R/bin/R CMD INSTALL a4Core StartedAt: 2025-02-03 21:07:06 -0000 (Mon, 03 Feb 2025) EndedAt: 2025-02-03 21:07:13 -0000 (Mon, 03 Feb 2025) EllapsedTime: 7.4 seconds RetCode: 0 Status: OK