Package: a4Preproc Version: 1.54.0 Command: /Library/Frameworks/R.framework/Resources/bin/R CMD INSTALL a4Preproc StartedAt: 2025-02-03 15:11:26 -0500 (Mon, 03 Feb 2025) EndedAt: 2025-02-03 15:11:29 -0500 (Mon, 03 Feb 2025) EllapsedTime: 3.3 seconds RetCode: 0 Status: OK