Package: a4Preproc Version: 1.54.0 Command: rm -rf a4Preproc.buildbin-libdir && mkdir a4Preproc.buildbin-libdir && /Users/biocbuild/BBS/utils/build-universal.sh a4Preproc_1.54.0.tar.gz /Library/Frameworks/R.framework/Resources/bin/R a4Preproc.buildbin-libdir StartedAt: 2025-02-04 12:25:42 -0500 (Tue, 04 Feb 2025) EndedAt: 2025-02-04 12:25:50 -0500 (Tue, 04 Feb 2025) EllapsedTime: 7.6 seconds RetCode: 0 Status: OK PackageFile: a4Preproc_1.54.0.tgz PackageFileSize: 296.8 KiB