Package: a4Preproc Version: 1.54.0 Command: /home/biocbuild/bbs-3.20-bioc/R/bin/R CMD build --keep-empty-dirs --no-resave-data --md5 a4Preproc StartedAt: 2025-02-03 16:16:49 -0500 (Mon, 03 Feb 2025) EndedAt: 2025-02-03 16:16:59 -0500 (Mon, 03 Feb 2025) EllapsedTime: 10.0 seconds RetCode: 0 Status: OK PackageFile: a4Preproc_1.54.0.tar.gz PackageFileSize: 288.8 KiB