Package: a4Preproc Version: 1.54.0 Command: chmod a+r a4Preproc -R && F:\biocbuild\bbs-3.20-bioc\R\bin\R.exe CMD build --keep-empty-dirs --no-resave-data a4Preproc StartedAt: 2025-02-03 17:24:34 -0500 (Mon, 03 Feb 2025) EndedAt: 2025-02-03 17:24:56 -0500 (Mon, 03 Feb 2025) EllapsedTime: 22.6 seconds RetCode: 0 Status: OK PackageFile: a4Preproc_1.54.0.tar.gz PackageFileSize: 288.5 KiB