Package: a4Preproc Version: 1.54.0 Command: /home/biocbuild/R/R/bin/R CMD INSTALL a4Preproc StartedAt: 2025-02-03 20:22:10 -0000 (Mon, 03 Feb 2025) EndedAt: 2025-02-03 20:22:33 -0000 (Mon, 03 Feb 2025) EllapsedTime: 23.3 seconds RetCode: 0 Status: OK