Package: acde Version: 1.36.0 Command: /Library/Frameworks/R.framework/Resources/bin/R CMD INSTALL acde StartedAt: 2025-02-03 15:10:45 -0500 (Mon, 03 Feb 2025) EndedAt: 2025-02-03 15:10:50 -0500 (Mon, 03 Feb 2025) EllapsedTime: 5.1 seconds RetCode: 0 Status: OK