Package: acde Version: 1.36.0 Command: /Library/Frameworks/R.framework/Resources/bin/R CMD check --install=check:acde.install-out.txt --library=/Library/Frameworks/R.framework/Resources/library --no-vignettes --timings acde_1.36.0.tar.gz StartedAt: 2025-02-03 23:28:42 -0500 (Mon, 03 Feb 2025) EndedAt: 2025-02-03 23:31:37 -0500 (Mon, 03 Feb 2025) EllapsedTime: 175.3 seconds RetCode: 0 Status: OK CheckDir: acde.Rcheck Warnings: 0