Package: acde Version: 1.36.0 Command: /home/biocbuild/bbs-3.20-bioc/R/bin/R CMD check --install=check:acde.install-out.txt --library=/home/biocbuild/bbs-3.20-bioc/R/site-library --timings acde_1.36.0.tar.gz StartedAt: 2025-02-03 19:56:30 -0500 (Mon, 03 Feb 2025) EndedAt: 2025-02-03 19:57:36 -0500 (Mon, 03 Feb 2025) EllapsedTime: 66.1 seconds RetCode: 0 Status: OK CheckDir: acde.Rcheck Warnings: 0