Package: acde Version: 1.36.0 Command: /home/biocbuild/bbs-3.20-bioc/R/bin/R CMD INSTALL acde StartedAt: 2025-02-03 15:13:45 -0500 (Mon, 03 Feb 2025) EndedAt: 2025-02-03 15:13:47 -0500 (Mon, 03 Feb 2025) EllapsedTime: 2.6 seconds RetCode: 0 Status: OK