Package: acde Version: 1.36.0 Command: /home/biocbuild/R/R/bin/R CMD INSTALL acde StartedAt: 2025-02-03 20:21:48 -0000 (Mon, 03 Feb 2025) EndedAt: 2025-02-03 20:22:03 -0000 (Mon, 03 Feb 2025) EllapsedTime: 14.9 seconds RetCode: 0 Status: OK