Package: adSplit Version: 1.76.0 Command: rm -rf adSplit.buildbin-libdir && mkdir adSplit.buildbin-libdir && /Users/biocbuild/BBS/utils/build-universal.sh adSplit_1.76.0.tar.gz /Library/Frameworks/R.framework/Resources/bin/R adSplit.buildbin-libdir StartedAt: 2025-02-05 14:43:37 -0500 (Wed, 05 Feb 2025) EndedAt: 2025-02-05 14:43:59 -0500 (Wed, 05 Feb 2025) EllapsedTime: 21.5 seconds RetCode: 0 Status: OK PackageFile: adSplit_1.76.0.tgz PackageFileSize: 559.4 KiB