Package: adSplit Version: 1.76.0 Command: /Library/Frameworks/R.framework/Resources/bin/R CMD build --keep-empty-dirs --no-resave-data adSplit StartedAt: 2025-02-03 18:27:16 -0500 (Mon, 03 Feb 2025) EndedAt: 2025-02-03 18:28:21 -0500 (Mon, 03 Feb 2025) EllapsedTime: 64.4 seconds RetCode: 0 Status: OK PackageFile: adSplit_1.76.0.tar.gz PackageFileSize: 536.7 KiB