Package: adSplit Version: 1.76.0 Command: /Library/Frameworks/R.framework/Resources/bin/R CMD INSTALL adSplit StartedAt: 2025-02-03 17:31:32 -0500 (Mon, 03 Feb 2025) EndedAt: 2025-02-03 17:31:51 -0500 (Mon, 03 Feb 2025) EllapsedTime: 18.8 seconds RetCode: 0 Status: OK