Package: adSplit Version: 1.76.0 Command: /home/biocbuild/bbs-3.20-bioc/R/bin/R CMD check --install=check:adSplit.install-out.txt --library=/home/biocbuild/bbs-3.20-bioc/R/site-library --timings adSplit_1.76.0.tar.gz StartedAt: 2025-02-03 19:56:30 -0500 (Mon, 03 Feb 2025) EndedAt: 2025-02-03 20:01:55 -0500 (Mon, 03 Feb 2025) EllapsedTime: 325.5 seconds RetCode: 0 Status: OK CheckDir: adSplit.Rcheck Warnings: 0