Package: adSplit Version: 1.76.0 Command: /home/biocbuild/R/R/bin/R CMD check --install=check:adSplit.install-out.txt --library=/home/biocbuild/R/R/site-library --no-vignettes --timings adSplit_1.76.0.tar.gz StartedAt: 2025-02-04 04:11:10 -0000 (Tue, 04 Feb 2025) EndedAt: 2025-02-04 04:15:11 -0000 (Tue, 04 Feb 2025) EllapsedTime: 240.7 seconds RetCode: 1 Status: ERROR CheckDir: adSplit.Rcheck Warnings: NA