Package: adSplit Version: 1.76.0 Command: /home/biocbuild/R/R/bin/R CMD INSTALL adSplit StartedAt: 2025-02-03 21:11:32 -0000 (Mon, 03 Feb 2025) EndedAt: 2025-02-03 21:11:53 -0000 (Mon, 03 Feb 2025) EllapsedTime: 20.9 seconds RetCode: 0 Status: OK