Package: affxparser Version: 1.78.0 Command: rm -rf affxparser.buildbin-libdir && mkdir affxparser.buildbin-libdir && /Users/biocbuild/BBS/utils/build-universal.sh affxparser_1.78.0.tar.gz /Library/Frameworks/R.framework/Resources/bin/R affxparser.buildbin-libdir StartedAt: 2025-02-05 14:43:51 -0500 (Wed, 05 Feb 2025) EndedAt: 2025-02-05 14:45:47 -0500 (Wed, 05 Feb 2025) EllapsedTime: 116.3 seconds RetCode: 0 Status: OK PackageFile: affxparser_1.78.0.tgz PackageFileSize: 1.571 MiB